BEGIN:VCALENDAR
VERSION:2.0
PRODID:-//wp-events-plugin.com//6.4.6.1//EN
BEGIN:VEVENT
UID:96@soundtherapytheband.com
DTSTART;TZID=America/Chicago:20260711T150000
DTEND;TZID=America/Chicago:20260711T171500
DTSTAMP:20260417T183541Z
URL:https://soundtherapytheband.com/?event=bastille-days-west-stage
SUMMARY:Bastille Days west stage
DESCRIPTION:
LOCATION:Cathedral Square Park\, 825 N Jefferson St\, Milwaukee\, Wi\, 5320
 2\, United States
X-APPLE-STRUCTURED-LOCATION;VALUE=URI;X-ADDRESS=825 N Jefferson St\, Milwau
 kee\, Wi\, 53202\, United States;X-APPLE-RADIUS=100;X-TITLE=Cathedral Squa
 re Park:geo:0,0
END:VEVENT
BEGIN:VTIMEZONE
TZID:America/Chicago
X-LIC-LOCATION:America/Chicago
BEGIN:DAYLIGHT
DTSTART:20260308T030000
TZOFFSETFROM:-0600
TZOFFSETTO:-0500
TZNAME:CDT
END:DAYLIGHT
END:VTIMEZONE
END:VCALENDAR