BEGIN:VCALENDAR
VERSION:2.0
PRODID:-//wp-events-plugin.com//6.4.6.1//EN
BEGIN:VEVENT
UID:97@soundtherapytheband.com
DTSTART;TZID=America/Chicago:20260808T140000
DTEND;TZID=America/Chicago:20260809T170000
DTSTAMP:20260417T184344Z
URL:https://soundtherapytheband.com/?event=belfast-station-6
SUMMARY:Belfast Station
DESCRIPTION:
LOCATION:Belfast Station\, N64W23246\, Sussex\, Wi\, 53089\, United States
X-APPLE-STRUCTURED-LOCATION;VALUE=URI;X-ADDRESS=N64W23246\, Sussex\, Wi\, 5
 3089\, United States;X-APPLE-RADIUS=100;X-TITLE=Belfast Station:geo:0,0
END:VEVENT
BEGIN:VTIMEZONE
TZID:America/Chicago
X-LIC-LOCATION:America/Chicago
BEGIN:DAYLIGHT
DTSTART:20260308T030000
TZOFFSETFROM:-0600
TZOFFSETTO:-0500
TZNAME:CDT
END:DAYLIGHT
END:VTIMEZONE
END:VCALENDAR