BEGIN:VCALENDAR
VERSION:2.0
PRODID:-//wp-events-plugin.com//6.4.6.1//EN
BEGIN:VEVENT
UID:94@soundtherapytheband.com
DTSTART;TZID=America/Chicago:20260718T200000
DTEND;TZID=America/Chicago:20260718T233000
DTSTAMP:20260417T180406Z
URL:https://soundtherapytheband.com/?event=summerfest-jojos-martini-bar
SUMMARY:Summerfest JoJo's Martini Bar
DESCRIPTION:
ATTACH;FMTTYPE=image/jpeg:https://soundtherapytheband.com/wp-content/uploa
 ds/2024/08/SOUND-THERAPY_SF_2024-102-scaled.jpeg
LOCATION:Summerfest\, 200 N Harbor Dr\, Milwaukee\, WI\, 53202\, United Sta
 tes
X-APPLE-STRUCTURED-LOCATION;VALUE=URI;X-ADDRESS=200 N Harbor Dr\, Milwaukee
 \, WI\, 53202\, United States;X-APPLE-RADIUS=100;X-TITLE=Summerfest:geo:0,
 0
END:VEVENT
BEGIN:VTIMEZONE
TZID:America/Chicago
X-LIC-LOCATION:America/Chicago
BEGIN:DAYLIGHT
DTSTART:20260308T030000
TZOFFSETFROM:-0600
TZOFFSETTO:-0500
TZNAME:CDT
END:DAYLIGHT
END:VTIMEZONE
END:VCALENDAR