BEGIN:VCALENDAR
VERSION:2.0
PRODID:-//wp-events-plugin.com//6.4.6.1//EN
BEGIN:VEVENT
UID:98@soundtherapytheband.com
DTSTART;TZID=America/Chicago:20260828T183000
DTEND;TZID=America/Chicago:20260828T213000
DTSTAMP:20260417T185052Z
URL:https://soundtherapytheband.com/?event=waukesha-friday-night-live-4
SUMMARY:Waukesha Friday Night Live
DESCRIPTION:
LOCATION:Hannon's Rock Stage\, 357 W Broadway\, Waukesha\, WI\, 53186\, Uni
 ted States
X-APPLE-STRUCTURED-LOCATION;VALUE=URI;X-ADDRESS=357 W Broadway\, Waukesha\,
  WI\, 53186\, United States;X-APPLE-RADIUS=100;X-TITLE=Hannon's Rock Stage
 :geo:0,0
END:VEVENT
BEGIN:VTIMEZONE
TZID:America/Chicago
X-LIC-LOCATION:America/Chicago
BEGIN:DAYLIGHT
DTSTART:20260308T030000
TZOFFSETFROM:-0600
TZOFFSETTO:-0500
TZNAME:CDT
END:DAYLIGHT
END:VTIMEZONE
END:VCALENDAR